BEGIN:VCALENDAR
VERSION:2.0
PRODID:-//Taylormania: 22 Show Merch - ECPv6.15.20//NONSGML v1.0//EN
CALSCALE:GREGORIAN
METHOD:PUBLISH
X-ORIGINAL-URL:https://www.taylorswifttribute.com
X-WR-CALDESC:Events for Taylormania: 22 Show Merch
REFRESH-INTERVAL;VALUE=DURATION:PT1H
X-Robots-Tag:noindex
X-PUBLISHED-TTL:PT1H
BEGIN:VTIMEZONE
TZID:Europe/London
BEGIN:DAYLIGHT
TZOFFSETFROM:+0000
TZOFFSETTO:+0100
TZNAME:BST
DTSTART:20250330T010000
END:DAYLIGHT
BEGIN:STANDARD
TZOFFSETFROM:+0100
TZOFFSETTO:+0000
TZNAME:GMT
DTSTART:20251026T010000
END:STANDARD
BEGIN:DAYLIGHT
TZOFFSETFROM:+0000
TZOFFSETTO:+0100
TZNAME:BST
DTSTART:20260329T010000
END:DAYLIGHT
BEGIN:STANDARD
TZOFFSETFROM:+0100
TZOFFSETTO:+0000
TZNAME:GMT
DTSTART:20261025T010000
END:STANDARD
BEGIN:DAYLIGHT
TZOFFSETFROM:+0000
TZOFFSETTO:+0100
TZNAME:BST
DTSTART:20270328T010000
END:DAYLIGHT
BEGIN:STANDARD
TZOFFSETFROM:+0100
TZOFFSETTO:+0000
TZNAME:GMT
DTSTART:20271031T010000
END:STANDARD
END:VTIMEZONE
BEGIN:VEVENT
DTSTART;TZID=Europe/London:20260801T193000
DTEND;TZID=Europe/London:20260801T220000
DTSTAMP:20260420T020433
CREATED:20250915T102744Z
LAST-MODIFIED:20260220T174358Z
UID:1942-1785612600-1785621600@www.taylorswifttribute.com
SUMMARY:Great Yarmouth Britannia Pier
DESCRIPTION:Buy tickets\n  \n💙 Support Make-A-Wish and win an exclusive meet & greet + merch goody bag — tickets only £1 available to purchase before the show and during the interval. \nOfficial Taylormania merch sold inside the venue 1 hour prior to the show*\, during the interval & after the show. \n*please note if merch is inside the auditorium this may vary\, keep an eye on our social media for the most up to date information: Join us Now
URL:https://www.taylorswifttribute.com/event/great-yarmouth-britannia-pier/
LOCATION:Britannia Pier\, Britannia Pier Ltd\, Marine Parade\, Great Yarmouth\, NR30 2EH\, United Kingdom
ATTACH;FMTTYPE=image/jpeg:https://www.taylorswifttribute.com/wp-content/uploads/2025/09/2026-Landscape-scaled.jpg
END:VEVENT
BEGIN:VEVENT
DTSTART;TZID=Europe/London:20260802T180000
DTEND;TZID=Europe/London:20260802T203000
DTSTAMP:20260420T020433
CREATED:20250915T103004Z
LAST-MODIFIED:20260220T174050Z
UID:1945-1785693600-1785702600@www.taylorswifttribute.com
SUMMARY:Southend Cliffs Pavilion
DESCRIPTION:Buy Tickets\n💙 Support Make-A-Wish and win an exclusive meet & greet + merch goody bag — tickets only £1 available to purchase before the show and during the interval. \nOfficial Taylormania merch sold inside the venue 1 hour prior to the show*\, during the interval & after the show. \n*please note if merch is inside the auditorium this may vary\, keep an eye on our social media for the most up to date information: Join us Now \n 
URL:https://www.taylorswifttribute.com/event/southend-cliffs-pavilion/
LOCATION:Cliffs Pavilion\, Station Rd\, Westcliff-on-Sea\, Southend-on-Sea\, SS0 7RA
ATTACH;FMTTYPE=image/jpeg:https://www.taylorswifttribute.com/wp-content/uploads/2025/09/2026-Landscape-scaled.jpg
END:VEVENT
BEGIN:VEVENT
DTSTART;TZID=Europe/London:20260807T193000
DTEND;TZID=Europe/London:20260807T220000
DTSTAMP:20260420T020433
CREATED:20250915T103201Z
LAST-MODIFIED:20260220T173954Z
UID:1948-1786131000-1786140000@www.taylorswifttribute.com
SUMMARY:Whitley Bay Playhouse
DESCRIPTION:Buy Tickets\n💙 Support Make-A-Wish and win an exclusive meet & greet + merch goody bag — tickets only £1 available to purchase before the show and during the interval. \nOfficial Taylormania merch sold inside the venue 1 hour prior to the show*\, during the interval & after the show. \n*please note if merch is inside the auditorium this may vary\, keep an eye on our social media for the most up to date information: Join us Now \n 
URL:https://www.taylorswifttribute.com/event/whitley-bay-playhouse/
LOCATION:Whitley Bay Playhouse\, Marine Ave\, Whitley Bay\, NE26 1LZ\, United Kingdom
ATTACH;FMTTYPE=image/jpeg:https://www.taylorswifttribute.com/wp-content/uploads/2025/09/2026-Landscape-scaled.jpg
END:VEVENT
BEGIN:VEVENT
DTSTART;TZID=Europe/London:20260809T193000
DTEND;TZID=Europe/London:20260809T220000
DTSTAMP:20260420T020433
CREATED:20250915T105642Z
LAST-MODIFIED:20260220T173803Z
UID:1951-1786303800-1786312800@www.taylorswifttribute.com
SUMMARY:🏴󠁧󠁢󠁷󠁬󠁳󠁿 Cardiff New Theatre
DESCRIPTION:Buy Tickets\n  \n💙 Support Make-A-Wish and win an exclusive meet & greet + merch goody bag — tickets only £1 available to purchase before the show and during the interval. \nOfficial Taylormania merch sold inside the venue 1 hour prior to the show*\, during the interval & after the show. \n*please note if merch is inside the auditorium this may vary\, keep an eye on our social media for the most up to date information: Join us Now
URL:https://www.taylorswifttribute.com/event/%f0%9f%8f%b4%f3%a0%81%a7%f3%a0%81%a2%f3%a0%81%b7%f3%a0%81%ac%f3%a0%81%b3%f3%a0%81%bf-cardiff-new-theatre/
LOCATION:Cardiff New Theatre\, New Theatre\, Park Place\, Cardiff\, CF10 3LN\, United Kingdom
ATTACH;FMTTYPE=image/jpeg:https://www.taylorswifttribute.com/wp-content/uploads/2025/09/2026-Landscape-scaled.jpg
END:VEVENT
BEGIN:VEVENT
DTSTART;TZID=Europe/London:20260814T193000
DTEND;TZID=Europe/London:20260814T220000
DTSTAMP:20260420T020433
CREATED:20250915T105842Z
LAST-MODIFIED:20260220T173706Z
UID:1955-1786735800-1786744800@www.taylorswifttribute.com
SUMMARY:Isle of Wight Shanklin Theatre
DESCRIPTION:Buy Tickets\n  \n💙 Support Make-A-Wish and win an exclusive meet & greet + merch goody bag — tickets only £1 available to purchase before the show and during the interval. \nOfficial Taylormania merch sold inside the venue 1 hour prior to the show*\, during the interval & after the show. \n*please note if merch is inside the auditorium this may vary\, keep an eye on our social media for the most up to date information: Join us Now \n 
URL:https://www.taylorswifttribute.com/event/isle-of-wight-shanklin-theatre/
LOCATION:Shanklin Theatre\, Prospect Rd\,\, Shanklin\, Isle of Wight\, PO37 6AJ
ATTACH;FMTTYPE=image/jpeg:https://www.taylorswifttribute.com/wp-content/uploads/2025/09/2026-Landscape-scaled.jpg
END:VEVENT
BEGIN:VEVENT
DTSTART;TZID=Europe/London:20260815T190000
DTEND;TZID=Europe/London:20260815T213000
DTSTAMP:20260420T020433
CREATED:20250915T110411Z
LAST-MODIFIED:20260220T173634Z
UID:1958-1786820400-1786829400@www.taylorswifttribute.com
SUMMARY:Portsmouth Kings Theatre
DESCRIPTION:Buy Tickets\n  \n💙 Support Make-A-Wish and win an exclusive meet & greet + merch goody bag — tickets only £1 available to purchase before the show and during the interval. \nOfficial Taylormania merch sold inside the venue 1 hour prior to the show*\, during the interval & after the show. \n*please note if merch is inside the auditorium this may vary\, keep an eye on our social media for the most up to date information: Join us Now
URL:https://www.taylorswifttribute.com/event/portsmouth-kings-theatre/
LOCATION:Kings Theatre\, Kings Theatre\, Albert Road\, Portsmouth\, Southsea\, PO5 2QJ\, United Kingdom
ATTACH;FMTTYPE=image/jpeg:https://www.taylorswifttribute.com/wp-content/uploads/2025/09/2026-Landscape-scaled.jpg
END:VEVENT
BEGIN:VEVENT
DTSTART;TZID=Europe/London:20260818T193000
DTEND;TZID=Europe/London:20260818T220000
DTSTAMP:20260420T020433
CREATED:20260113T115013Z
LAST-MODIFIED:20260220T173541Z
UID:2357-1787081400-1787090400@www.taylorswifttribute.com
SUMMARY:Bridlington Spa
DESCRIPTION:Buy Tickets\n  \n💙 Support Make-A-Wish and win an exclusive meet & greet + merch goody bag — tickets only £1 available to purchase before the show and during the interval. \nOfficial merch sold inside the venue 1 hour prior to the show*\, during the interval & after the show. \n*please note if merch is inside the auditorium this may vary\, keep an eye on our social media for the most up to date information: Join us Now
URL:https://www.taylorswifttribute.com/event/bridlington-spa/
LOCATION:Bridlingon Spa\, Bridlington Spa\, South Marine Drive\,\, Bridlington\, YO15 3JH\, United Kingdom
ATTACH;FMTTYPE=image/jpeg:https://www.taylorswifttribute.com/wp-content/uploads/2025/09/2026-Landscape-scaled.jpg
END:VEVENT
BEGIN:VEVENT
DTSTART;TZID=Europe/London:20260820T193000
DTEND;TZID=Europe/London:20260820T220000
DTSTAMP:20260420T020433
CREATED:20250915T111637Z
LAST-MODIFIED:20260220T173208Z
UID:1961-1787254200-1787263200@www.taylorswifttribute.com
SUMMARY:Weymouth Pavilion
DESCRIPTION:Tickets on Sale Soon\n  \n💙 Support Make-A-Wish and win an exclusive meet & greet + merch goody bag — tickets only £1 available to purchase before the show and during the interval. \nOfficial Taylormania merch sold inside the venue 1 hour prior to the show*\, during the interval & after the show. \n*please note if merch is inside the auditorium this may vary\, keep an eye on our social media for the most up to date information: Join us Now
URL:https://www.taylorswifttribute.com/event/weymouth-pavilion/
LOCATION:Weymouth Pavilion\, Weymouth Pavilion\, Esplanade\,\, Weymouth\, DT4 8ED\, United Kingdom
ATTACH;FMTTYPE=image/jpeg:https://www.taylorswifttribute.com/wp-content/uploads/2025/09/2026-Landscape-scaled.jpg
END:VEVENT
BEGIN:VEVENT
DTSTART;TZID=Europe/London:20260821T193000
DTEND;TZID=Europe/London:20260821T220000
DTSTAMP:20260420T020433
CREATED:20250915T111744Z
LAST-MODIFIED:20260220T173132Z
UID:1964-1787340600-1787349600@www.taylorswifttribute.com
SUMMARY:Wycombe Swan Theatre
DESCRIPTION:Buy Tickets\n  \n💙 Support Make-A-Wish and win an exclusive meet & greet + merch goody bag — tickets only £1 available to purchase before the show and during the interval. \nOfficial Taylormania merch sold inside the venue 1 hour prior to the show*\, during the interval & after the show. \n*please note if merch is inside the auditorium this may vary\, keep an eye on our social media for the most up to date information: Join us Now
URL:https://www.taylorswifttribute.com/event/high-wycombe-swan-theatre/
LOCATION:Wycombe Swan Theatre\, St Mary Street\, High Wycombe\, HP11 2XE\, United Kingdom
ATTACH;FMTTYPE=image/jpeg:https://www.taylorswifttribute.com/wp-content/uploads/2025/09/2026-Landscape-scaled.jpg
END:VEVENT
BEGIN:VEVENT
DTSTART;TZID=Europe/London:20260822T143000
DTEND;TZID=Europe/London:20260822T170000
DTSTAMP:20260420T020433
CREATED:20251023T103131Z
LAST-MODIFIED:20260404T115118Z
UID:2166-1787409000-1787418000@www.taylorswifttribute.com
SUMMARY:Kilworth House
DESCRIPTION:Buy Tickets\n  \nThis award winning show to Taylor Swift is the most prestigious tribute act for Taylor Swift in the UK . Created\, produced and delivered with pride\, professionalism and with the highest level of attention to detail. \nWith an incredible live band and dancers this show promises to deliver the most authentic recreation of a Taylor Swift show that you will ever find. \nThe traits possessed by Katy Ellis has ‘Swiftie’ fans from across the world feeling like they are back watching Taylor Swift herself. The show features all of Taylor’s much loved hits including; Shake It Off\, Blank Space\, Love Story\, You Belong With Me\, Look What You Made Me Do\, I Knew You Were Trouble. \nThis fun energetic show gets all the audience involved and has everyone singing and dancing along ‘Shaking it off’ to all of Taylor Swift’s hits.
URL:https://www.taylorswifttribute.com/event/kilworth-house/
LOCATION:Kilworth House\, Lutterworth Rd\, North Kilworth\,\, Lutterworth\, LE17 6JE\, United Kingdom
ATTACH;FMTTYPE=image/jpeg:https://www.taylorswifttribute.com/wp-content/uploads/2025/10/theatre-01.jpg
END:VEVENT
BEGIN:VEVENT
DTSTART;TZID=Europe/London:20260823T193000
DTEND;TZID=Europe/London:20260823T220000
DTSTAMP:20260420T020433
CREATED:20250915T112204Z
LAST-MODIFIED:20260220T172833Z
UID:1968-1787513400-1787522400@www.taylorswifttribute.com
SUMMARY:Middleton Arena
DESCRIPTION:Buy Tickets\n  \n💙 Support Make-A-Wish and win an exclusive meet & greet + merch goody bag — tickets only £1 available to purchase before the show and during the interval. \nOfficial Taylormania merch sold inside the venue 1 hour prior to the show*\, during the interval & after the show. \n*please note if merch is inside the auditorium this may vary\, keep an eye on our social media for the most up to date information: Join us Now \n 
URL:https://www.taylorswifttribute.com/event/middleton-arena/
LOCATION:Middleton Arena\, Lance Corporal Joel Halliwell VC Way\, Middleton\, Manchester\, M24 1AG\, United Kingdom
ATTACH;FMTTYPE=image/jpeg:https://www.taylorswifttribute.com/wp-content/uploads/2025/09/2026-Landscape-scaled.jpg
END:VEVENT
END:VCALENDAR