BEGIN:VCALENDAR
VERSION:2.0
PRODID:-//Taylormania: 22 Show Merch - ECPv6.15.20//NONSGML v1.0//EN
CALSCALE:GREGORIAN
METHOD:PUBLISH
X-WR-CALNAME:Taylormania: 22 Show Merch
X-ORIGINAL-URL:https://www.taylorswifttribute.com
X-WR-CALDESC:Events for Taylormania: 22 Show Merch
REFRESH-INTERVAL;VALUE=DURATION:PT1H
X-Robots-Tag:noindex
X-PUBLISHED-TTL:PT1H
BEGIN:VTIMEZONE
TZID:Europe/London
BEGIN:DAYLIGHT
TZOFFSETFROM:+0000
TZOFFSETTO:+0100
TZNAME:BST
DTSTART:20250330T010000
END:DAYLIGHT
BEGIN:STANDARD
TZOFFSETFROM:+0100
TZOFFSETTO:+0000
TZNAME:GMT
DTSTART:20251026T010000
END:STANDARD
BEGIN:DAYLIGHT
TZOFFSETFROM:+0000
TZOFFSETTO:+0100
TZNAME:BST
DTSTART:20260329T010000
END:DAYLIGHT
BEGIN:STANDARD
TZOFFSETFROM:+0100
TZOFFSETTO:+0000
TZNAME:GMT
DTSTART:20261025T010000
END:STANDARD
BEGIN:DAYLIGHT
TZOFFSETFROM:+0000
TZOFFSETTO:+0100
TZNAME:BST
DTSTART:20270328T010000
END:DAYLIGHT
BEGIN:STANDARD
TZOFFSETFROM:+0100
TZOFFSETTO:+0000
TZNAME:GMT
DTSTART:20271031T010000
END:STANDARD
END:VTIMEZONE
BEGIN:VEVENT
DTSTART;TZID=Europe/London:20260719T130000
DTEND;TZID=Europe/London:20260719T153000
DTSTAMP:20260420T073004
CREATED:20260113T114126Z
LAST-MODIFIED:20260113T114126Z
UID:2350-1784466000-1784475000@www.taylorswifttribute.com
SUMMARY:The Sands\, Carlisle
DESCRIPTION:Buy Tickets\n  \n💙 Support Make-A-Wish and win an exclusive meet & greet + merch goody bag — tickets only £1 available to purchase before the show and during the interval. \nOfficial merch sold inside the venue 1 hour prior to the show*\, during the interval & after the show. \n*please note if merch is inside the auditorium this may vary\, keep an eye on our social media for the most up to date information: Join us Now
URL:https://www.taylorswifttribute.com/event/the-sands-carlisle/
LOCATION:The Sands Centre Carlisle\, The Sands Centre\, Carisle\, Carlisle CA1 1JQ\, United Kingdom
ATTACH;FMTTYPE=image/png:https://www.taylorswifttribute.com/wp-content/uploads/2025/09/TLOAS-Landscape-.png
END:VEVENT
BEGIN:VEVENT
DTSTART;TZID=Europe/London:20260719T170000
DTEND;TZID=Europe/London:20260719T193000
DTSTAMP:20260420T073004
CREATED:20260113T114349Z
LAST-MODIFIED:20260113T114349Z
UID:2354-1784480400-1784489400@www.taylorswifttribute.com
SUMMARY:The Sands\, Carlisle
DESCRIPTION:Buy Tickets\n  \n💙 Support Make-A-Wish and win an exclusive meet & greet + merch goody bag — tickets only £1 available to purchase before the show and during the interval. \nOfficial merch sold inside the venue 1 hour prior to the show*\, during the interval & after the show. \n*please note if merch is inside the auditorium this may vary\, keep an eye on our social media for the most up to date information: Join us Now
URL:https://www.taylorswifttribute.com/event/the-sands-carlisle-2/
LOCATION:The Sands Centre Carlisle\, The Sands Centre\, Carisle\, Carlisle CA1 1JQ\, United Kingdom
ATTACH;FMTTYPE=image/png:https://www.taylorswifttribute.com/wp-content/uploads/2025/09/TLOAS-Landscape-.png
END:VEVENT
END:VCALENDAR